BEGIN:VCALENDAR
VERSION:2.0
PRODID:-//Nellis AFB - ECPv6.15.20//NONSGML v1.0//EN
CALSCALE:GREGORIAN
METHOD:PUBLISH
X-WR-CALNAME:Nellis AFB
X-ORIGINAL-URL:https://nellis99fss.com
X-WR-CALDESC:Events for Nellis AFB
REFRESH-INTERVAL;VALUE=DURATION:PT1H
X-Robots-Tag:noindex
X-PUBLISHED-TTL:PT1H
BEGIN:VTIMEZONE
TZID:UTC
BEGIN:STANDARD
TZOFFSETFROM:+0000
TZOFFSETTO:+0000
TZNAME:UTC
DTSTART:20250101T000000
END:STANDARD
END:VTIMEZONE
BEGIN:VEVENT
DTSTART;TZID=UTC:20260425T090000
DTEND;TZID=UTC:20260425T160000
DTSTAMP:20260425T130557
CREATED:20260318T171851Z
LAST-MODIFIED:20260318T171851Z
UID:10000491-1777107600-1777132800@nellis99fss.com
SUMMARY:Colorado River Pontoon Tour & Lunch
DESCRIPTION:Program Title: Colorado River Pontoon Tour & Lunch\nTime: 0900-1600\nCost: $100 per person\nAge: 18+\nDetails: Relax and soak up the sun on a pontoon boat tour of the Colorado River! Enjoy stunning views of the river canyon and surrounding landscape while we cruise. A delicious lunch will be provided on board. Don’t miss this chance to unwind and enjoy the beauty of the river! Space is limited\, so sign up now. Price includes transportation\, equipment\, and lunch.\nDifficulty: X
URL:https://nellis99fss.com/event/colorado-river-pontoon-tour-lunch/
LOCATION:Outdoor Recreation\, 4042 Griffiss Ave\, Bldg. 439 Nellis AFB\,\, NV\, 89191\, United States
CATEGORIES:Base Wide,Outdoor Recreation
ATTACH;FMTTYPE=image/jpeg:https://nellis99fss.com/wp-content/uploads/2026/03/4_26-trips_v1a_Jen_Colorado-River_800x800.jpg
END:VEVENT
BEGIN:VEVENT
DTSTART;TZID=UTC:20260426T080000
DTEND;TZID=UTC:20260426T140000
DTSTAMP:20260425T130557
CREATED:20260318T172145Z
LAST-MODIFIED:20260318T172504Z
UID:10000492-1777190400-1777212000@nellis99fss.com
SUMMARY:Lake Mead E Biking – River Mountains Loop Trail
DESCRIPTION:Program Title: Lake Mead E Biking – River Mountains Loop Trail\nTime: 0800-1400\nCost: $50 per person\nAge: 14+\nDetails: Embark on an electric bike adventure along the scenic River Mountains Loop Trail! This awesome 34-mile trail offers panoramic views of Lake Mead\, the surrounding mountains\, and the Las Vegas Valley. Enjoy a comfortable and exhilarating ride\, exploring diverse desert landscapes and experiencing the beauty of Southern Nevada like never before. Price includes transportation\, equipment\, and guide.\nDifficulty: XX
URL:https://nellis99fss.com/event/lake-mead-e-biking-river-mountains-loop-trail/
LOCATION:Outdoor Recreation\, 4042 Griffiss Ave\, Bldg. 439 Nellis AFB\,\, NV\, 89191\, United States
CATEGORIES:Base Wide,Outdoor Recreation
ATTACH;FMTTYPE=image/jpeg:https://nellis99fss.com/wp-content/uploads/2026/03/4_26-trips_v1a_Jen_EBiking_800x800.jpg
END:VEVENT
END:VCALENDAR